BEGIN:VCALENDAR
METHOD:PUBLISH
PRODID:www-archiv-fau-de//Events//DE
VERSION:2.0
BEGIN:VEVENT
SUMMARY:Lesung mit Jack Halberstam (Columbia University): “Broken Wi
 ndows: The Art of Demolition”
UID:c89c-f424-be10-17515399@www.fau.de
DESCRIPTION:Jack Halberstam (Columbia University in the City of New Yo
 rk) ist Researcher in Residence 2025 in den English and American Studi
 es der FAU. Am 30. Juni gibt es eine Lesung mit ihm mit dem Titel “B
 roken Windows: The Art of Demolition”. Alle Infos: https://www.angam
 .phil.fau.de/2025/05/25/researcher-in-residence-2025-jack-halberstam-c
 olumbia-university-in-the-city-of-new-york/
DTSTART:20250630T180000Z
DTEND:20250630T200000Z
LOCATION:<span class="rrze-event-location">Alter Senatssaal\, Kollegie
 nhaus\, Universitätsstraße 15\, Erlangen</span>
DTSTAMP:20260420T071545Z
END:VEVENT
END:VCALENDAR