BEGIN:VCALENDAR
METHOD:PUBLISH
PRODID:www-archiv-fau-de//Events//DE
VERSION:2.0
BEGIN:VEVENT
SUMMARY:Starthilfe Technik: IdM-Kennung\, FAU-Mail\, FAUcard\, WLAN un
 d wichtige Uni-Portale
UID:dd67-202e-4b99-18801423@www.fau.de
DESCRIPTION:Was ist IdM und wofür brauche ich das? Wann bekomme ich m
 eine FAUcard? Und was mache ich dann damit? Wie komme ich an der FAU i
 ns WLAN? Warum brauche ich noch eine Mailadresse? In diesem Termin ver
 mitteln wir die technischen Grundlagen für den Studienstart an der FA
 U. Dieser Online-Vortrag ist Teil der Reihe &#8222\;Erstis-Starthilfe:
  Vorbereitung auf den Einstieg ins Studium&#8220\; der Zentralen Studi
 enberatung (ZSB) der FAU. Eingeladen sind alle\, die im Wintersemester
  2025/2026 ein Studium an der FAU starten. Die Teilnahme ist bereits v
 or der Einschreibung möglich\, eine Anmeldung zum Termin ist nicht er
 forderlich. Der Vortrag findet über Zoom statt: https://fau.zoom-x.de
 /j/69264709330 Vortragssprache: Deutsch
DTSTART:20250827T110000Z
DTEND:20250827T120000Z
LOCATION:Zoom
RRULE:FREQ=MONTHLY;UNTIL=20260910T065819Z;BYMONTHDAY=27;BYMONTH=8,9
EXDATE:20250927T000000Z
RDATE:20250916T000000Z
DTSTAMP:20260420T071545Z
END:VEVENT
END:VCALENDAR