BEGIN:VCALENDAR
METHOD:PUBLISH
PRODID:www-archiv-fau-de//Events//DE
VERSION:2.0
BEGIN:VEVENT
SUMMARY:Starthilfe Studienorganisation: Allgemeines zum Studienstart a
 m Fachbereich Wirtschafts- und Sozialwissenschaften (WiSo)
UID:965c-6bf4-c75c-19216764@www.fau.de
DESCRIPTION:Was muss ich für den Studienstart am am Fachbereich Wirts
 chafts- und Sozialwissenschaften (WiSo) wissen? Wo informiere ich mich
 ? Welche Termine sollte ich kennen? Und wie kann ich mich sonst noch v
 orbereiten? In diesem Termin erhalten die neuen Studierenden am Fachbe
 reich Wirtschafts- und Sozialwissenschaften (WiSo) grundlegende Infos 
 zu allgemeinen Themen rund um den Studienstart an der Fakultät. Diese
 r Online-Vortrag ist Teil der Reihe &#8222\;Erstis-Starthilfe: Vorbere
 itung auf den Einstieg ins Studium&#8220\; der Zentralen Studienberatu
 ng (ZSB) der FAU. Eingeladen sind alle\, die im Wintersemester 2025/20
 26 ein Studium an der FAU am Fachbereich Wirtschafts- und Sozialwissen
 schaften (WiSo) starten. Die Teilnahme ist bereits vor der Einschreibu
 ng möglich\, eine Anmeldung zum Termin ist nicht erforderlich. Der Vo
 rtrag findet über Zoom statt: https://fau.zoom-x.de/j/69264709330 Vor
 tragssprache: Deutsch
DTSTART:20250917T150000Z
DTEND:20250917T160000Z
LOCATION:Zoom
DTSTAMP:20260423T123531Z
END:VEVENT
END:VCALENDAR