BEGIN:VCALENDAR
METHOD:PUBLISH
PRODID:www-archiv-fau-de//Events//DE
VERSION:2.0
BEGIN:VEVENT
SUMMARY:Virtuelle Infoveranstaltung: Das Tutorienprogramm an der FAU -
  Seminarangebot und Zertifikat
UID:7f33-3708-f01a-19334768@www.fau.de
DESCRIPTION:Neu als Tutor *in an der FAU und (noch) keinen rechten Pla
 n\, wie das mit dem Unterrichten\, Präsentieren und Leiten von Gruppe
 n funktioniert?! Keine Sorge\, das FAU Kompetenzzentrum Lehre bietet i
 m Herbst wieder einige kostenfreie Workshops für studentische Lehrend
 e und ihr habt die Möglichkeit\, ein hochschuldidaktisches Zertifikat
  zu erwerben. Das gesamte Fortbildungsangebot findet ihr auf StudOn: h
 ttps://www.studon.fau.de/studon/go/cat/6446651 In unserer Online-Infov
 eranstaltung am 06.10. erfahrt ihr mehr zum Programm und zum Zertifika
 t: https://www.studon.fau.de/studon/go/crs/6446672 &nbsp\;
DTSTART:20251006T113000Z
DTEND:20251006T120000Z
LOCATION:Zoom
DTSTAMP:20260423T040529Z
END:VEVENT
END:VCALENDAR