BEGIN:VCALENDAR
METHOD:PUBLISH
PRODID:www-archiv-fau-de//Events//DE
VERSION:2.0
BEGIN:VEVENT
SUMMARY:Entfällt - Collegium Alexandrinum: Halbleitertechnik ist hand
 werkgewordene Quantenmechanik
UID:98a8-8290-989a-19443632@www.fau.de
DESCRIPTION:Die Veranstaltung muss leider kurzfristig entfallen. Halbl
 eitertechnik ist handwerkgewordene Quantenmechanik (Nachtrag zum inter
 nationalen Jahr der Quantenphysik und -technik) Prof. Dr. Jörg Schulz
 e\, Lehrstuhl für Elektronische Bauelemente Die Vortragsreihe des Col
 legium Alexandrinum bietet der interessierten Öffentlichkeit wieder E
 inblicke in aktuelle Forschung und Lehre. Das Thema des Wintersemester
 s 2024/2025 lautet „Natur und Kultur im Wandel“.
DTSTART:20251106T201500Z
DTEND:20251106T214500Z
LOCATION:Hörsaal 01.020\, Zentrum für Medizinische Physik und Techni
 k (ZMPT)\, Henkestraße 91\, Erlangen
DTSTAMP:20260420T071546Z
END:VEVENT
END:VCALENDAR