BEGIN:VCALENDAR
METHOD:PUBLISH
PRODID:www-archiv-fau-de//Events//DE
VERSION:2.0
BEGIN:VEVENT
SUMMARY:Collegium Alexandrinum: Wie beeinflussen digitale Medien Verha
 lten und Wohlbefinden von Jugendlichen
UID:8d6e-544a-9b0c-19443644@www.fau.de
DESCRIPTION:Wie beeinflussen digitale Medien Verhalten und Wohlbefinde
 n von Jugendlichen und welche Rolle spielt die Medienkompetenzförderu
 ng? Prof. Dr. Rudolf Kammerl\, Lehrstuhl für Pädagogik mit dem Schwe
 rpunkt Medienpädagogik Die Vortragsreihe des Collegium Alexandrinum b
 ietet der interessierten Öffentlichkeit wieder Einblicke in aktuelle 
 Forschung und Lehre. Das Thema des Wintersemesters 2024/2025 lautet 
 „Natur und Kultur im Wandel“. http://collegium-alexandrinum.de/
DTSTART:20260129T201500Z
DTEND:20260129T214500Z
LOCATION:Hörsaal 01.020\, Zentrum für Medizinische Physik und Techni
 k (ZMPT)\, Henkestraße 91\, Erlangen
DTSTAMP:20260420T221048Z
END:VEVENT
END:VCALENDAR