BEGIN:VCALENDAR
METHOD:PUBLISH
PRODID:www-archiv-fau-de//Events//DE
VERSION:2.0
BEGIN:VEVENT
SUMMARY:Collegium Alexandrinum: Risiken und Nebenwirkungen digitaler M
 edien für die mentale Gesundheit
UID:9987-ff3e-8f4f-19443645@www.fau.de
DESCRIPTION:Risiken und Nebenwirkungen digitaler Medien für die menta
 le Gesundheit: Forschungsstand und Lösungsansätze Prof. Dr. Adrian M
 eier\, Lehrstuhl für Kommunikationswissenschaft Digitale Medien und K
 ommunikationstechnologien wie Social Media\, Smartphones und KI-Assist
 enten prägen unseren Alltag zunehmend – mit positiven\, aber auch p
 roblematischen Folgen für das menschliche Wohlbefinden. In diesem Vor
 trag gibt Prof. Meier einen Überblick über den aktuellen Stand weltw
 eiter Forschung zum Einfluss dieser Technologien auf die mentale Gesun
 dheit. Dabei werden sowohl Risiken wie Stress\, Ablenkung oder Einsamk
 eit als auch mögliche Schutzfaktoren beleuchtet. Zudem wird die wisse
 nschaftliche Evidenz für populäre Lösungsansätze wie „Digital De
 tox“ auf den Prüfstand gestellt. Der Vortrag schließt mit einer Di
 skussion über aktuelle Vorstöße zur effektiven Regulierung von Smar
 tphones\, Social Media und Technologie-Konzernen. Die Vortragsreihe de
 s Collegium Alexandrinum bietet der interessierten Öffentlichkeit wie
 der Einblicke in aktuelle Forschung und Lehre. Das Thema des Wintersem
 esters 2024/2025 lautet „Natur und Kultur im Wandel“. http://colle
 gium-alexandrinum.de/
DTSTART:20260205T201500Z
DTEND:20260205T214500Z
LOCATION:Hörsaal 01.020\, Zentrum für Medizinische Physik und Techni
 k (ZMPT)\, Henkestraße 91\, Erlangen
DTSTAMP:20260422T121316Z
END:VEVENT
END:VCALENDAR