BEGIN:VCALENDAR
METHOD:PUBLISH
PRODID:www-archiv-fau-de//Events//DE
VERSION:2.0
BEGIN:VEVENT
SUMMARY:Ausstellungseröffnung: Kunst und Kunstgeschichte in Erlangen 
 1918 bis 1965
UID:404a-2f87-1115-19576567@www.fau.de
DESCRIPTION:Die Ausstellung konzentriert sich auf die Karrieren von K
 ünstlern und Kunsthistorikern während und nach der NS-Zeit. Die Auss
 tellung ist vom 24. Oktober bis 23. November 2025 zu sehen. Eine Auss
 tellung des Instituts für Kunstgeschichte der Friedrich-Alexander-Uni
 versität Erlangen-Nürnberg in Kooperation mit der Universitätsbibli
 othek Erlangen-Nürnberg\, dem Universitätsarchiv und dem Stadtarchiv
  Erlangen Mehr Infos: https://www.kunstgeschichte.phil.fau.de/2025/10/
 08/ausstellung-2025/
DTSTART:20251024T170000Z
DTEND:20251024T190000Z
LOCATION:Universitätsbibliothek Erlangen-Nürnberg\, Schuhstraße 1a\
 , 91052 Erlangen
DTSTAMP:20260420T042604Z
END:VEVENT
END:VCALENDAR