BEGIN:VCALENDAR
METHOD:PUBLISH
PRODID:www-archiv-fau-de//Events//DE
VERSION:2.0
BEGIN:VEVENT
SUMMARY:Jenseits des Tellerrands – Mittagsvorlesung zur Geschichte u
 nd Ethik der Medizin
UID:a720-a1d7-5ee5-19595686@www.fau.de
DESCRIPTION:5. November 2025 Wissenschaftliche Ultra-Elite und brillan
 te Verlierer. Die Nobelpreise für Medizin oder Physiologie im 20. Jah
 rhundert Der Nobelpreis gilt als die höchste Auszeichnung innerhalb d
 er Wissenschaften\; in seiner Geschichte spiegelt sich die Fortschritt
 sgeschichte auch der Medizin wider. Der Vortrag untersucht\, welche Me
 diziner/innen den Nobelpreis aus welchen Gründen bekommen haben und w
 elche nicht. Die Vergabe des Nobelpreises erweist sich als ein komplex
 es Ritual\, das soziale\, politische und anthropologische Aspekte hat.
  12. November 2025  Doping. Schlaglichter auf historische (Dis-)Konti
 nuitäten einer umstrittenen Praktik in Sport und Gesellschaft Doping 
 in vielfältigen Kontexten\, ebenso wie zahlreiche damit im Zusammenha
 ng stehende Skandale\, etwa im Sport\, sind fast schon alltäglich gew
 orden. Als neuzeitliches Phänomen ist Doping Ausdruck eines gesteiger
 ten Bedürfnisses nach Leistung\, Optimierung und der Überwindung von
  Grenzen. Der Beitrag will die moderne Entwicklungsgeschichte der oftm
 als als deviant markierten Praktik der Leistungssteigerung mittels pha
 rmazeutischer Hilfsmittel\, ebenso wie das Vorgehen dagegen\, kurz erl
 äutern. Der Fokus liegt dabei auf den historischen (Dis-)Kontinuität
 en\, Erfolgen und Problemen beim Umgang mit Doping. 19. November 2025 
 „Der Leichnam der Verurteilten wurde sofort nach der Hinrichtung ein
 em Beauftragten des anatomischen Institutes der Universität Erlangen 
 übergeben.“ NS-Justizopfer in der Erlanger Anatomie Die Geschichte 
 des Leichenzugangs der Erlanger Anatomie konnte bislang nur sehr unzur
 eichend bearbeitet werden\, da die wichtigste Quelle – das Leichenei
 ngangsbuch – im Unterschied zu anderen universitären Standorten in 
 Erlangen seit 1947 als verschollen gilt. Aktuelle Forschung unter ande
 rem mit den Unterlagen der zentralen Hinrichtungsstätte für ganz Bay
 ern in München-Stadelheim erlaubt nun einen Überblick\, der anhand v
 on Justizakten bis in die konkrete Provenienz einzelner noch vorhanden
 er Präpar
DTSTART:20251105T121500Z
DTEND:20251105T130000Z
LOCATION:Institut für Geschichte und Ethik der Medizin\, Seminarraum 
 Bibliothek\, Glückstraße 10\, Erlangen
RRULE:FREQ=WEEKLY;UNTIL=20251127T000000Z;BYDAY=WE
DTSTAMP:20260420T071545Z
END:VEVENT
END:VCALENDAR