BEGIN:VCALENDAR
METHOD:PUBLISH
PRODID:www-archiv-fau-de//Events//DE
VERSION:2.0
BEGIN:VEVENT
SUMMARY:Online-Vortrag: Ein Mann ist keine Altersvorsorge (Büro für 
 Gender und Diversity)
UID:b3b0-08eb-28f4-19671120@www.fau.de
DESCRIPTION:Der Online-Vortrag organisiert vom Büro für Gender und D
 iversity der FAU mit dem Titel „Ein Mann ist keine Altersvorsorge“
  rückt ein zentrales Thema unserer Gesellschaft in den Fokus: die fin
 anzielle Unabhängigkeit von Frauen. Darum wird es in dem Vortrag gehe
 n: Frauen sind heute so gut ausgebildet wie nie zuvor. Sie können the
 oretisch alles werden: ob Nobelpreisträgerin\, Top-Managerin oder Bun
 deskanzlerin. Trotzdem stehen immer noch die gleichen zentralen Fragen
  im Raum: Warum erhalten Frauen so wenig Rente? Warum sind sie oft fin
 anziell abhängig von ihrem Partner und geraten bei Scheidungen oft in
  eine prekäre Lage? Wie kann die zumeist unsichtbare Care-Arbeit von 
 Frauen für Kinder und im Pflegefall besser anerkannt\, aufgeteilt bzw
 . staatlich unterstützt werden? Helma Sick räumt auf mit Illusionen\
 , Vorurteilen und falschen Anreizen. Sie zeigt\, wie überholte Rollen
 vorstellungen die finanzielle Situation von Frauen negativ beeinflusse
 n und was die Politik\, die Arbeitgeber aber auch die Frauen und Männ
 er selbst tun können\, um das zu ändern. Lebensnahe Beispiele aus ih
 rer Beratungspraxis und praktische Tipps machen den Vortrag zu einem s
 pannenden Erlebnis. Helma Sick ist Betriebswirtin und engagiert sich s
 eit über 35 Jahren für die finanzielle Unabhängigkeit von Frauen. 1
 987 hat sie als eine der ersten in Deutschland ein unabhängiges Finan
 zberatungs-Unternehmen für Frauen gegründet. Helma Sick ist zudem Au
 torin mehrerer Finanzratgeber\, schrieb für Zeitschriften\, und ist b
 undesweit bekannt durch zahlreiche Rundfunk- und Fernsehsendungen. Im 
 Oktober 2022 wurde sie vom Bundespräsidenten mit dem Bundesverdienstk
 reuz ausgezeichnet. https://www.gender-und-diversity.fau.de/2025/10/14
 /diversity-tag-2020-an-der-fau-zum-thema-inklusion/
DTSTART:20251029T100000Z
DTEND:20251029T120000Z
LOCATION:Zoom
DTSTAMP:20260420T072914Z
END:VEVENT
END:VCALENDAR