BEGIN:VCALENDAR
METHOD:PUBLISH
PRODID:www-archiv-fau-de//Events//DE
VERSION:2.0
BEGIN:VEVENT
SUMMARY:Vortrag: Strategien der Neuen Rechten – Herausforderungen un
 d Empfehlungen für den Umgang mit Rechtsextremismus in der Lehre
UID:ad24-0ac3-6e16-19671616@www.fau.de
DESCRIPTION:Ein Mal pro Jahr richtet die Abteilung Hochschuldidaktik d
 es FAU Kompetenzzentrums Lehre einen Vortrag für alle Interessierten 
 aus. Dieses Mal nehmen wir ein politisches Thema in den Fokus\, nämli
 ch die Strategien der Neuen Rechten – Herausforderungen und Empfehlu
 ngen für den Umgang mit Rechtsextremismus in der Lehre. Rechtsextremi
 smus ist ein zentrales Problem unserer Zeit\, das alle Bereiche der Ge
 sellschaft durchdringt. Das ist keine zufällige Entwicklung\, sondern
  dahinter steht ein bewusster Plan\, der insbesondere von der sogenann
 ten „Neuen Rechten“ entwickelt und über rechtsextreme Netzwerke b
 ewusst verfolgt wird. Der Vortrag stellt diese Netzwerke und die von i
 hnen verfolgten Strategien der Unterwanderung von Demokratie vor. Im A
 nschluss widmet sich der Vortrag der Frage\, welche Konsequenzen darau
 f für Hochschullehrende erwachsen: Was bedeutet das Neutralitätsgebo
 t? Wo\, wie und warum ist es wichtig\, dass auch Hochschullehrende dem
 okratische Haltung zeigen? Referent ist Dr. Florian Pfeil\, Direktor d
 er Fridtjof-Nansen-Akademie für politische Bildung\, und Geschäftsf
 ührer des Weiterbildungszentrums Ingelheim. Der Politikwissenschaftle
 r hat in Zusammenarbeit mit dem rheinland-pfälzischen Innenministeriu
 m die berufsbegleitende Weiterbildung zur zertifizierten Fachkraft fü
 r Rechtsextremismusprävention entwickelt. 2024 wurde er für seine Ar
 beit im Bereich der Demokratiebildung mit dem Verdienstorden das Lande
 s Rheinland-Pfalz ausgezeichnet. Der Online-Vortrag findet am 18.11.20
 25 von 10:30 &#8211\; 12:00 Uhr via Zoom statt. Anmeldung: https://pro
 filehreplus.de/seminare/lehrhaeppchen-strategien-der-neuen-rechten-her
 ausforderungen-und-empfehlungen-fuer-den-umgang-mit-rechtsextremismus-
 in-der-lehre
DTSTART:20251118T103000Z
DTEND:20251118T120000Z
LOCATION:Zoom
DTSTAMP:20260420T183028Z
END:VEVENT
END:VCALENDAR