BEGIN:VCALENDAR
METHOD:PUBLISH
PRODID:www-archiv-fau-de//Events//DE
VERSION:2.0
BEGIN:VEVENT
SUMMARY:TRANSFERleben Breakfast Club in Erlangen – Digitale Kompeten
 zen stärken
UID:3065-9ab6-cbd9-20143160@www.fau.de
DESCRIPTION:Am 26. November 2025 lädt die FAU zusammen mit Bayern Inn
 ovativ zum Frühstücksformat für alle\, die ihre digitalen Skills au
 sbauen und sich zu Innovation und Wissenstransfer austauschen möchten
 . Freuen Sie sich auf Impulse\, Praxisbeispiele und Networking rund um
  Digitalisierung und Innovation – in lockerer Atmosphäre an der FAU
  Erlangen-Nürnberg. Zum Programm
DTSTART:20251126T093000Z
DTEND:20251126T120000Z
LOCATION:Freyeslebenstr. 1\, 91058 Erlangen
DTSTAMP:20260422T020243Z
END:VEVENT
END:VCALENDAR