BEGIN:VCALENDAR
METHOD:PUBLISH
PRODID:www-archiv-fau-de//Events//DE
VERSION:2.0
BEGIN:VEVENT
SUMMARY:Vortrag "Planetary Health and Planetary Ethics: Health Impact 
 of the Climate Emergency"
UID:c270-027c-1edd-20143724@www.fau.de
DESCRIPTION:Vortrag im Rahmen der Veranstaltungsreihe &#8222\;Medizin\
 , Ethik und Menschenrechte&#8220\;\, organisiert von der Professur fü
 r Ethik in der Medizin. Die Veranstaltung findet auf Englisch statt. Z
 um Plakat: https://www.igem-ethik.med.fau.de/2025/10/02/einladung-zu-v
 eranstaltungen-im-wintersemester-2025-26/ &nbsp\;
DTSTART:20251112T180000Z
DTEND:20251112T200000Z
LOCATION:Senatssaal\, Kollegienhaus\, Universitätsstr. 15\, Erlangen
DTSTAMP:20260421T142810Z
END:VEVENT
END:VCALENDAR