BEGIN:VCALENDAR
METHOD:PUBLISH
PRODID:www-archiv-fau-de//Events//DE
VERSION:2.0
BEGIN:VEVENT
SUMMARY:Informationsveranstaltung: Culture\, Creativity & Careers. How
  to: Selbständigkeit in der Kultur- und Kreativwirtschaft
UID:d00c-a4f8-4bb3-20247394@www.fau.de
DESCRIPTION:Man gestaltet\, entwirft\, konzipiert – Ideen entstehen\
 , Projekte wachsen und vieles bleibt im Entwurfsstadium. Doch was wär
 e\, wenn daraus mehr werden könnte – ein eigenes Vorhaben\, ein mit
 tel- bis langfristiges Projekt\, vielleicht sogar ein Unternehmen? Mit
  dieser hochschulübergreifenden Veranstaltung möchten wir dich dazu 
 einladen\, deine kreative Praxis auch aus einer unternehmerischen Pers
 pektive zu betrachten. Denn gerade Studierende kreativer Studiengänge
  verfügen über besondere Kompetenzen: Sie denken in Projekten\, gest
 alten Prozesse und bringen neue Ideen in die Welt – ideale Vorausset
 zungen\, um eigene Wege zu gehen. Gemeinsam wollen wir erkunden\, wie 
 sich künstlerische und gestalterische Arbeit mit Aspekten von Selbst
 ändigkeit\, Nachhaltigkeit und unternehmerischem Denken verbinden las
 sen. Dabei geht es nicht um klassische BWL-Modelle\, sondern um kreati
 ve Formen des Wirtschaftens und Gestaltens. Beim Event triffst du Glei
 chgesinnte aus unterschiedlichen Hochschulen\, bekommst Einblicke in s
 pannende Gründungsgeschichten und erhältst Impulse\, deinen eigenen 
 kreativen Werdegang um Aspekte der unternehmerischen Selbstverwirklich
 ung zu erweitern. Lass dich inspirieren\, neue Perspektiven auf deine 
 Arbeit zu gewinnen\, vielleicht den nächsten Schritt zu wagen und dei
 ne kreativen Gedanken weiter zu spinnen – bis sie finanziell Fuß fa
 ssen und deine Zukunft wirtschaftlich tragen. Die Veranstaltung richte
 t sich an Studierende kreativer Studiengänge in der Metropolregion N
 ürnberg – unabhängig davon\, in welcher Phase des Studiums du dich
  befindest. Termin: Donnerstag\, 20. November 2025\, 15 bis ca. 19 Uhr
  Veranstaltungsort: Ohm Innovation Center (auf AEG)\, Brucknerstraße 
 11\, 90429 Nürnberg  Veranstalter: Friedrich-Alexander-Universitä
 t Erlangen-Nürnberg OM7 Business Innovation Center Nürnberg Techni
 sche Hochschule Nürnberg Georg Simon Ohm Venture Team Kultur\, AdBK 
 Nürnberg Die Teilnahme ist kostenlos.  Weitere Informationen und An
 meldung unter: http
DTSTART:20251120T150000Z
DTEND:20251120T190000Z
LOCATION:Ohm Innovation Center (auf AEG)\, Brucknerstraße 11\, 90429 
 Nürnberg 
DTSTAMP:20260421T134155Z
END:VEVENT
END:VCALENDAR