BEGIN:VCALENDAR
METHOD:PUBLISH
PRODID:www-archiv-fau-de//Events//DE
VERSION:2.0
BEGIN:VEVENT
SUMMARY:Hungerkost – Humanexperimente – Gefängnis-Inferno: Neue F
 orschung zur HuPfla Erlangen
UID:acc4-4299-d79d-20247599@www.fau.de
DESCRIPTION:Kurzvorträge und Podiumsdiskussion mit Thomas Engelhardt 
 (ehem. Leiter des Stadtmuseums Erlangen)\, Prof. Dr. Charlotte Bühl-G
 ramer (FAU) und Katrin Kasparek\, M.A. (Ansbach) Infos: https://www.ig
 em-ethik.med.fau.de/2025/10/02/einladung-zu-veranstaltungen-im-winters
 emester-2025-26/
DTSTART:20251119T180000Z
DTEND:20251119T200000Z
LOCATION:Senatssaal\, Kollegienhaus\, Universitätsstr. 15\, Erlangen
DTSTAMP:20260424T033448Z
END:VEVENT
END:VCALENDAR