BEGIN:VCALENDAR
METHOD:PUBLISH
PRODID:www-archiv-fau-de//Events//DE
VERSION:2.0
BEGIN:VEVENT
SUMMARY:Neues aus dem Grüneberg - Erbrechtliche Highlights aus der Re
 chtsprechung des BGH und der Obergerichte: Abgesagt
UID:040000008200E00074C5B7101A82E0080000000050ED54E1B3A5DB010000000000
 00000010000000815C4BC70DE741489B2906DC3EBCBECA
DESCRIPTION:Die Veranstaltung ist abgesagt.
DTSTART:20251206T080000Z
DTEND:20251206T134500Z
LOCATION:Juridicum der Universität\, Sitzungssaal 0.283\, Schillerstr
 . 1\, 91054 Erlangen oder online über Zoom
DTSTAMP:20260422T054328Z
END:VEVENT
END:VCALENDAR